BEGIN:VCALENDAR
VERSION:2.0
PRODID:-//St. Paul&#039;s Lutheran School - ECPv6.15.20//NONSGML v1.0//EN
CALSCALE:GREGORIAN
METHOD:PUBLISH
X-ORIGINAL-URL:https://stpaulscullman.com/school
X-WR-CALDESC:Events for St. Paul&#039;s Lutheran School
REFRESH-INTERVAL;VALUE=DURATION:PT1H
X-Robots-Tag:noindex
X-PUBLISHED-TTL:PT1H
BEGIN:VTIMEZONE
TZID:America/Chicago
BEGIN:DAYLIGHT
TZOFFSETFROM:-0600
TZOFFSETTO:-0500
TZNAME:CDT
DTSTART:20230312T080000
END:DAYLIGHT
BEGIN:STANDARD
TZOFFSETFROM:-0500
TZOFFSETTO:-0600
TZNAME:CST
DTSTART:20231105T070000
END:STANDARD
BEGIN:DAYLIGHT
TZOFFSETFROM:-0600
TZOFFSETTO:-0500
TZNAME:CDT
DTSTART:20240310T080000
END:DAYLIGHT
BEGIN:STANDARD
TZOFFSETFROM:-0500
TZOFFSETTO:-0600
TZNAME:CST
DTSTART:20241103T070000
END:STANDARD
BEGIN:DAYLIGHT
TZOFFSETFROM:-0600
TZOFFSETTO:-0500
TZNAME:CDT
DTSTART:20250309T080000
END:DAYLIGHT
BEGIN:STANDARD
TZOFFSETFROM:-0500
TZOFFSETTO:-0600
TZNAME:CST
DTSTART:20251102T070000
END:STANDARD
END:VTIMEZONE
BEGIN:VEVENT
DTSTART;VALUE=DATE:20241219
DTEND;VALUE=DATE:20241221
DTSTAMP:20260419T113001
CREATED:20230630T030951Z
LAST-MODIFIED:20240604T031926Z
UID:287-1734631200-1734717599@stpaulscullman.com
SUMMARY:11:30 AM Dismissal
DESCRIPTION:Please be reminded that St. Paul’s Lutheran School will have an early dismissal at 11:30 AM on 12/20\, marking the beginning of our Christmas break. We kindly request parents to ensure timely pick-up of their children\, and we encourage families to embrace this festive season by spending quality time together\, creating cherished memories\, and celebrating the joy of Christmas. May your Christmas break be filled with love\, laughter\, and the warmth of cherished traditions.
URL:https://stpaulscullman.com/school/event/1130-dismissal-2/
ATTACH;FMTTYPE=image/png:https://stpaulscullman.com/school/wp-content/uploads/sites/4/2023/06/Early-Dismissal.png
END:VEVENT
END:VCALENDAR